BEGIN:VCALENDAR
VERSION:2.0
PRODID:-//Tryon Country Club | Tryon, NC - ECPv6.15.17.1//NONSGML v1.0//EN
CALSCALE:GREGORIAN
METHOD:PUBLISH
X-WR-CALNAME:Tryon Country Club | Tryon, NC
X-ORIGINAL-URL:https://www.tryoncountryclub.com
X-WR-CALDESC:Events for Tryon Country Club | Tryon, NC
REFRESH-INTERVAL;VALUE=DURATION:PT1H
X-Robots-Tag:noindex
X-PUBLISHED-TTL:PT1H
BEGIN:VTIMEZONE
TZID:America/New_York
BEGIN:DAYLIGHT
TZOFFSETFROM:-0500
TZOFFSETTO:-0400
TZNAME:EDT
DTSTART:20170312T070000
END:DAYLIGHT
BEGIN:STANDARD
TZOFFSETFROM:-0400
TZOFFSETTO:-0500
TZNAME:EST
DTSTART:20171105T060000
END:STANDARD
BEGIN:DAYLIGHT
TZOFFSETFROM:-0500
TZOFFSETTO:-0400
TZNAME:EDT
DTSTART:20180311T070000
END:DAYLIGHT
BEGIN:STANDARD
TZOFFSETFROM:-0400
TZOFFSETTO:-0500
TZNAME:EST
DTSTART:20181104T060000
END:STANDARD
BEGIN:DAYLIGHT
TZOFFSETFROM:-0500
TZOFFSETTO:-0400
TZNAME:EDT
DTSTART:20190310T070000
END:DAYLIGHT
BEGIN:STANDARD
TZOFFSETFROM:-0400
TZOFFSETTO:-0500
TZNAME:EST
DTSTART:20191103T060000
END:STANDARD
BEGIN:DAYLIGHT
TZOFFSETFROM:-0500
TZOFFSETTO:-0400
TZNAME:EDT
DTSTART:20200308T070000
END:DAYLIGHT
BEGIN:STANDARD
TZOFFSETFROM:-0400
TZOFFSETTO:-0500
TZNAME:EST
DTSTART:20201101T060000
END:STANDARD
END:VTIMEZONE
BEGIN:VEVENT
DTSTART;TZID=America/New_York:20190409T090000
DTEND;TZID=America/New_York:20190409T120000
DTSTAMP:20260423T124652
CREATED:20190310T200656Z
LAST-MODIFIED:20190310T200700Z
UID:5650-1554800400-1554811200@www.tryoncountryclub.com
SUMMARY:TWGA
DESCRIPTION:
URL:https://www.tryoncountryclub.com/calendar/twga-51/
END:VEVENT
BEGIN:VEVENT
DTSTART;TZID=America/New_York:20190408T090000
DTEND;TZID=America/New_York:20190408T120000
DTSTAMP:20260423T124652
CREATED:20190310T200608Z
LAST-MODIFIED:20190310T200612Z
UID:5646-1554714000-1554724800@www.tryoncountryclub.com
SUMMARY:TMGA
DESCRIPTION:
URL:https://www.tryoncountryclub.com/calendar/tmga-52/
END:VEVENT
BEGIN:VEVENT
DTSTART;TZID=America/New_York:20190405T160000
DTEND;TZID=America/New_York:20190405T190000
DTSTAMP:20260423T124652
CREATED:20190310T142008Z
LAST-MODIFIED:20190310T142015Z
UID:5486-1554480000-1554490800@www.tryoncountryclub.com
SUMMARY:Couples Golf
DESCRIPTION:
URL:https://www.tryoncountryclub.com/calendar/couples-golf-10/
END:VEVENT
BEGIN:VEVENT
DTSTART;TZID=America/New_York:20190402T150000
DTEND;TZID=America/New_York:20190402T183000
DTSTAMP:20260423T124652
CREATED:20190310T141910Z
LAST-MODIFIED:20190310T141915Z
UID:5482-1554217200-1554229800@www.tryoncountryclub.com
SUMMARY:Polk High School Golf Match
DESCRIPTION:
URL:https://www.tryoncountryclub.com/calendar/polk-high-school-golf-match-5/
END:VEVENT
BEGIN:VEVENT
DTSTART;TZID=America/New_York:20190402T090000
DTEND;TZID=America/New_York:20190402T120000
DTSTAMP:20260423T124652
CREATED:20190310T200514Z
LAST-MODIFIED:20190310T200526Z
UID:5642-1554195600-1554206400@www.tryoncountryclub.com
SUMMARY:TWGA
DESCRIPTION:
URL:https://www.tryoncountryclub.com/calendar/twga-50/
END:VEVENT
BEGIN:VEVENT
DTSTART;TZID=America/New_York:20190401T090000
DTEND;TZID=America/New_York:20190401T130000
DTSTAMP:20260423T124652
CREATED:20190310T141810Z
LAST-MODIFIED:20190310T141814Z
UID:5478-1554109200-1554123600@www.tryoncountryclub.com
SUMMARY:TMGA Opening Day
DESCRIPTION:
URL:https://www.tryoncountryclub.com/calendar/tmga-opening-day-2/
END:VEVENT
BEGIN:VEVENT
DTSTART;TZID=America/New_York:20190326T090000
DTEND;TZID=America/New_York:20190326T133000
DTSTAMP:20260423T124652
CREATED:20190310T141609Z
LAST-MODIFIED:20190310T141613Z
UID:5470-1553590800-1553607000@www.tryoncountryclub.com
SUMMARY:TWGA Opening Day
DESCRIPTION:
URL:https://www.tryoncountryclub.com/calendar/twga-opening-day-2/
END:VEVENT
BEGIN:VEVENT
DTSTART;TZID=America/New_York:20190326T030000
DTEND;TZID=America/New_York:20190326T183000
DTSTAMP:20260423T124652
CREATED:20190310T141711Z
LAST-MODIFIED:20190310T141715Z
UID:5474-1553569200-1553625000@www.tryoncountryclub.com
SUMMARY:Polk High School Golf Match
DESCRIPTION:
URL:https://www.tryoncountryclub.com/calendar/polk-high-school-golf-match-4/
END:VEVENT
BEGIN:VEVENT
DTSTART;TZID=America/New_York:20190323T100000
DTEND;TZID=America/New_York:20190324T170000
DTSTAMP:20260423T124652
CREATED:20190310T141500Z
LAST-MODIFIED:20190310T141504Z
UID:5466-1553335200-1553446800@www.tryoncountryclub.com
SUMMARY:Dogfight Opening Day
DESCRIPTION:
URL:https://www.tryoncountryclub.com/calendar/dogfight-opening-day-2/
END:VEVENT
BEGIN:VEVENT
DTSTART;TZID=America/New_York:20190321T130000
DTEND;TZID=America/New_York:20190321T180000
DTSTAMP:20260423T124652
CREATED:20190310T140957Z
LAST-MODIFIED:20190310T141002Z
UID:5462-1553173200-1553191200@www.tryoncountryclub.com
SUMMARY:Polk High School Golf Match
DESCRIPTION:
URL:https://www.tryoncountryclub.com/calendar/polk-high-school-golf-match/
END:VEVENT
BEGIN:VEVENT
DTSTART;VALUE=DATE:20190311
DTEND;VALUE=DATE:20190313
DTSTAMP:20260423T124652
CREATED:20190310T133852Z
LAST-MODIFIED:20190310T133856Z
UID:5458-1552262400-1552435199@www.tryoncountryclub.com
SUMMARY:Volunteer Work Days
DESCRIPTION:
URL:https://www.tryoncountryclub.com/calendar/volunteer-work-days/
END:VEVENT
BEGIN:VEVENT
DTSTART;VALUE=DATE:20190311
DTEND;VALUE=DATE:20190313
DTSTAMP:20260423T124652
CREATED:20190310T133754Z
LAST-MODIFIED:20190310T133801Z
UID:5454-1552262400-1552435199@www.tryoncountryclub.com
SUMMARY:Greens Aerification
DESCRIPTION:
URL:https://www.tryoncountryclub.com/calendar/greens-aerification-2/
END:VEVENT
BEGIN:VEVENT
DTSTART;TZID=America/New_York:20190209T103000
DTEND;TZID=America/New_York:20190210T170000
DTSTAMP:20260423T124652
CREATED:20190310T133654Z
LAST-MODIFIED:20190310T133659Z
UID:5450-1549708200-1549818000@www.tryoncountryclub.com
SUMMARY:2018 Dogfight Championship
DESCRIPTION:
URL:https://www.tryoncountryclub.com/calendar/2018-dogfight-championship/
END:VEVENT
BEGIN:VEVENT
DTSTART;TZID=America/New_York:20190119T090000
DTEND;TZID=America/New_York:20190119T110000
DTSTAMP:20260423T124652
CREATED:20190310T133455Z
LAST-MODIFIED:20190310T133525Z
UID:5445-1547888400-1547895600@www.tryoncountryclub.com
SUMMARY:Annual Meeting
DESCRIPTION:
URL:https://www.tryoncountryclub.com/calendar/annual-meeting-2/
END:VEVENT
BEGIN:VEVENT
DTSTART;TZID=America/New_York:20181230T123000
DTEND;TZID=America/New_York:20181230T170000
DTSTAMP:20260423T124652
CREATED:20180204T151434Z
LAST-MODIFIED:20180204T151443Z
UID:5282-1546173000-1546189200@www.tryoncountryclub.com
SUMMARY:Dogfight
DESCRIPTION:
URL:https://www.tryoncountryclub.com/calendar/dogfight-129/
END:VEVENT
BEGIN:VEVENT
DTSTART;TZID=America/New_York:20181229T100000
DTEND;TZID=America/New_York:20181229T150000
DTSTAMP:20260423T124652
CREATED:20180204T151159Z
LAST-MODIFIED:20180204T151204Z
UID:5266-1546077600-1546095600@www.tryoncountryclub.com
SUMMARY:Dogfight
DESCRIPTION:
URL:https://www.tryoncountryclub.com/calendar/dogfight-125/
END:VEVENT
BEGIN:VEVENT
DTSTART;VALUE=DATE:20181225
DTEND;VALUE=DATE:20181226
DTSTAMP:20260423T124652
CREATED:20180122T202257Z
LAST-MODIFIED:20180122T202302Z
UID:4806-1545696000-1545782399@www.tryoncountryclub.com
SUMMARY:Christmas Day - Club Closed
DESCRIPTION:
URL:https://www.tryoncountryclub.com/calendar/christmas-day-club-closed/
END:VEVENT
BEGIN:VEVENT
DTSTART;TZID=America/New_York:20181223T123000
DTEND;TZID=America/New_York:20181223T170000
DTSTAMP:20260423T124652
CREATED:20180204T151354Z
LAST-MODIFIED:20180204T151400Z
UID:5278-1545568200-1545584400@www.tryoncountryclub.com
SUMMARY:Dogfight
DESCRIPTION:
URL:https://www.tryoncountryclub.com/calendar/dogfight-128/
END:VEVENT
BEGIN:VEVENT
DTSTART;TZID=America/New_York:20181222T100000
DTEND;TZID=America/New_York:20181222T150000
DTSTAMP:20260423T124652
CREATED:20180204T151118Z
LAST-MODIFIED:20180204T151125Z
UID:5262-1545472800-1545490800@www.tryoncountryclub.com
SUMMARY:Dogfight
DESCRIPTION:
URL:https://www.tryoncountryclub.com/calendar/dogfight-124/
END:VEVENT
BEGIN:VEVENT
DTSTART;TZID=America/New_York:20181216T123000
DTEND;TZID=America/New_York:20181216T170000
DTSTAMP:20260423T124652
CREATED:20180204T151316Z
LAST-MODIFIED:20180204T151322Z
UID:5274-1544963400-1544979600@www.tryoncountryclub.com
SUMMARY:Dogfight
DESCRIPTION:
URL:https://www.tryoncountryclub.com/calendar/dogfight-127/
END:VEVENT
BEGIN:VEVENT
DTSTART;TZID=America/New_York:20181215T100000
DTEND;TZID=America/New_York:20181215T150000
DTSTAMP:20260423T124652
CREATED:20180204T151038Z
LAST-MODIFIED:20180204T151045Z
UID:5258-1544868000-1544886000@www.tryoncountryclub.com
SUMMARY:Dogfight
DESCRIPTION:
URL:https://www.tryoncountryclub.com/calendar/dogfight-123/
END:VEVENT
BEGIN:VEVENT
DTSTART;TZID=America/New_York:20181209T123000
DTEND;TZID=America/New_York:20181209T170000
DTSTAMP:20260423T124652
CREATED:20180204T151239Z
LAST-MODIFIED:20180204T151245Z
UID:5270-1544358600-1544374800@www.tryoncountryclub.com
SUMMARY:Dogfight
DESCRIPTION:
URL:https://www.tryoncountryclub.com/calendar/dogfight-126/
END:VEVENT
BEGIN:VEVENT
DTSTART;TZID=America/New_York:20181208T100000
DTEND;TZID=America/New_York:20181208T150000
DTSTAMP:20260423T124652
CREATED:20180204T150952Z
LAST-MODIFIED:20180204T151000Z
UID:5254-1544263200-1544281200@www.tryoncountryclub.com
SUMMARY:Dogfight
DESCRIPTION:
URL:https://www.tryoncountryclub.com/calendar/dogfight-122/
END:VEVENT
BEGIN:VEVENT
DTSTART;TZID=America/New_York:20181201T103000
DTEND;TZID=America/New_York:20181202T160000
DTSTAMP:20260423T124652
CREATED:20181116T163014Z
LAST-MODIFIED:20181116T163019Z
UID:5420-1543660200-1543766400@www.tryoncountryclub.com
SUMMARY:Men's Fall Ryder Cup
DESCRIPTION:
URL:https://www.tryoncountryclub.com/calendar/mens-fall-ryder-cup/
END:VEVENT
BEGIN:VEVENT
DTSTART;TZID=America/New_York:20181125T123000
DTEND;TZID=America/New_York:20181125T170000
DTSTAMP:20260423T124652
CREATED:20180202T161026Z
LAST-MODIFIED:20180202T161035Z
UID:5245-1543149000-1543165200@www.tryoncountryclub.com
SUMMARY:Dogfight
DESCRIPTION:
URL:https://www.tryoncountryclub.com/calendar/dogfight-120/
END:VEVENT
BEGIN:VEVENT
DTSTART;TZID=America/New_York:20181124T100000
DTEND;TZID=America/New_York:20181124T150000
DTSTAMP:20260423T124652
CREATED:20180202T160535Z
LAST-MODIFIED:20180202T160541Z
UID:5221-1543053600-1543071600@www.tryoncountryclub.com
SUMMARY:Dogfight
DESCRIPTION:
URL:https://www.tryoncountryclub.com/calendar/dogfight-114/
END:VEVENT
BEGIN:VEVENT
DTSTART;VALUE=DATE:20181122
DTEND;VALUE=DATE:20181123
DTSTAMP:20260423T124652
CREATED:20180122T202156Z
LAST-MODIFIED:20180122T202201Z
UID:4802-1542844800-1542931199@www.tryoncountryclub.com
SUMMARY:Thanksgiving day - Club Closed
DESCRIPTION:
URL:https://www.tryoncountryclub.com/calendar/thanksgiving-day-club-closed/
END:VEVENT
BEGIN:VEVENT
DTSTART;TZID=America/New_York:20181117T100000
DTEND;TZID=America/New_York:20181118T150000
DTSTAMP:20260423T124652
CREATED:20181116T162818Z
LAST-MODIFIED:20181116T162823Z
UID:5417-1542448800-1542553200@www.tryoncountryclub.com
SUMMARY:Men's Club Championship
DESCRIPTION:
URL:https://www.tryoncountryclub.com/calendar/mens-club-championship-2/
END:VEVENT
BEGIN:VEVENT
DTSTART;TZID=America/New_York:20181112T090000
DTEND;TZID=America/New_York:20181112T130000
DTSTAMP:20260423T124652
CREATED:20180122T173809Z
LAST-MODIFIED:20180122T173816Z
UID:4660-1542013200-1542027600@www.tryoncountryclub.com
SUMMARY:TMGA Closing Day
DESCRIPTION:
URL:https://www.tryoncountryclub.com/calendar/tmga-closing-day-2/
END:VEVENT
BEGIN:VEVENT
DTSTART;TZID=America/New_York:20181105T090000
DTEND;TZID=America/New_York:20181105T120000
DTSTAMP:20260423T124652
CREATED:20180126T190808Z
LAST-MODIFIED:20180126T190821Z
UID:5172-1541408400-1541419200@www.tryoncountryclub.com
SUMMARY:TMGA
DESCRIPTION:
URL:https://www.tryoncountryclub.com/calendar/tmga-46/
END:VEVENT
END:VCALENDAR