BEGIN:VCALENDAR
VERSION:2.0
PRODID:-//Tryon Country Club | Tryon, NC - ECPv6.15.17.1//NONSGML v1.0//EN
CALSCALE:GREGORIAN
METHOD:PUBLISH
X-WR-CALNAME:Tryon Country Club | Tryon, NC
X-ORIGINAL-URL:https://www.tryoncountryclub.com
X-WR-CALDESC:Events for Tryon Country Club | Tryon, NC
REFRESH-INTERVAL;VALUE=DURATION:PT1H
X-Robots-Tag:noindex
X-PUBLISHED-TTL:PT1H
BEGIN:VTIMEZONE
TZID:America/New_York
BEGIN:DAYLIGHT
TZOFFSETFROM:-0500
TZOFFSETTO:-0400
TZNAME:EDT
DTSTART:20180311T070000
END:DAYLIGHT
BEGIN:STANDARD
TZOFFSETFROM:-0400
TZOFFSETTO:-0500
TZNAME:EST
DTSTART:20181104T060000
END:STANDARD
BEGIN:DAYLIGHT
TZOFFSETFROM:-0500
TZOFFSETTO:-0400
TZNAME:EDT
DTSTART:20190310T070000
END:DAYLIGHT
BEGIN:STANDARD
TZOFFSETFROM:-0400
TZOFFSETTO:-0500
TZNAME:EST
DTSTART:20191103T060000
END:STANDARD
BEGIN:DAYLIGHT
TZOFFSETFROM:-0500
TZOFFSETTO:-0400
TZNAME:EDT
DTSTART:20200308T070000
END:DAYLIGHT
BEGIN:STANDARD
TZOFFSETFROM:-0400
TZOFFSETTO:-0500
TZNAME:EST
DTSTART:20201101T060000
END:STANDARD
END:VTIMEZONE
BEGIN:VEVENT
DTSTART;TZID=America/New_York:20190709T090000
DTEND;TZID=America/New_York:20190709T120000
DTSTAMP:20260423T062004
CREATED:20190310T211826Z
LAST-MODIFIED:20190310T211830Z
UID:5752-1562662800-1562673600@www.tryoncountryclub.com
SUMMARY:TWGA
DESCRIPTION:
URL:https://www.tryoncountryclub.com/calendar/twga-64/
END:VEVENT
BEGIN:VEVENT
DTSTART;TZID=America/New_York:20190708T090000
DTEND;TZID=America/New_York:20190708T120000
DTSTAMP:20260423T062004
CREATED:20190310T211728Z
LAST-MODIFIED:20190310T211732Z
UID:5748-1562576400-1562587200@www.tryoncountryclub.com
SUMMARY:TMGA
DESCRIPTION:
URL:https://www.tryoncountryclub.com/calendar/tmga-64/
END:VEVENT
BEGIN:VEVENT
DTSTART;TZID=America/New_York:20190704T090000
DTEND;TZID=America/New_York:20190704T130000
DTSTAMP:20260423T062004
CREATED:20190310T162535Z
LAST-MODIFIED:20190310T162539Z
UID:5550-1562230800-1562245200@www.tryoncountryclub.com
SUMMARY:July 4th Flag Tournament
DESCRIPTION:
URL:https://www.tryoncountryclub.com/calendar/july-4th-flag-tournament-2/
END:VEVENT
BEGIN:VEVENT
DTSTART;TZID=America/New_York:20190702T090000
DTEND;TZID=America/New_York:20190702T120000
DTSTAMP:20260423T062004
CREATED:20190310T211646Z
LAST-MODIFIED:20190310T211650Z
UID:5744-1562058000-1562068800@www.tryoncountryclub.com
SUMMARY:TWGA
DESCRIPTION:
URL:https://www.tryoncountryclub.com/calendar/twga-63/
END:VEVENT
BEGIN:VEVENT
DTSTART;TZID=America/New_York:20190701T090000
DTEND;TZID=America/New_York:20190701T120000
DTSTAMP:20260423T062004
CREATED:20190310T211607Z
LAST-MODIFIED:20190310T211611Z
UID:5740-1561971600-1561982400@www.tryoncountryclub.com
SUMMARY:TMGA
DESCRIPTION:
URL:https://www.tryoncountryclub.com/calendar/tmga-63/
END:VEVENT
BEGIN:VEVENT
DTSTART;TZID=America/New_York:20190629T100000
DTEND;TZID=America/New_York:20190630T180000
DTSTAMP:20260423T062004
CREATED:20190310T161815Z
LAST-MODIFIED:20190310T162421Z
UID:5547-1561802400-1561917600@www.tryoncountryclub.com
SUMMARY:Men's Member-Member
DESCRIPTION:
URL:https://www.tryoncountryclub.com/calendar/mens-member-member-2/
END:VEVENT
BEGIN:VEVENT
DTSTART;TZID=America/New_York:20190625T090000
DTEND;TZID=America/New_York:20190625T120000
DTSTAMP:20260423T062004
CREATED:20190310T211433Z
LAST-MODIFIED:20190310T211437Z
UID:5737-1561453200-1561464000@www.tryoncountryclub.com
SUMMARY:TWGA
DESCRIPTION:
URL:https://www.tryoncountryclub.com/calendar/twga-62/
END:VEVENT
BEGIN:VEVENT
DTSTART;TZID=America/New_York:20190624T090000
DTEND;TZID=America/New_York:20190624T120000
DTSTAMP:20260423T062004
CREATED:20190310T211351Z
LAST-MODIFIED:20190310T211356Z
UID:5733-1561366800-1561377600@www.tryoncountryclub.com
SUMMARY:TMGA
DESCRIPTION:
URL:https://www.tryoncountryclub.com/calendar/tmga-62/
END:VEVENT
BEGIN:VEVENT
DTSTART;TZID=America/New_York:20190621T160000
DTEND;TZID=America/New_York:20190621T190000
DTSTAMP:20260423T062004
CREATED:20190310T161654Z
LAST-MODIFIED:20190310T161700Z
UID:5543-1561132800-1561143600@www.tryoncountryclub.com
SUMMARY:Couples Golf
DESCRIPTION:
URL:https://www.tryoncountryclub.com/calendar/couples-golf-12/
END:VEVENT
BEGIN:VEVENT
DTSTART;VALUE=DATE:20190620
DTEND;VALUE=DATE:20190621
DTSTAMP:20260423T062004
CREATED:20190310T161556Z
LAST-MODIFIED:20190310T161602Z
UID:5539-1560988800-1561075199@www.tryoncountryclub.com
SUMMARY:Volunteer Work Day
DESCRIPTION:
URL:https://www.tryoncountryclub.com/calendar/volunteer-work-day-2/
END:VEVENT
BEGIN:VEVENT
DTSTART;TZID=America/New_York:20190618T090000
DTEND;TZID=America/New_York:20190618T120000
DTSTAMP:20260423T062004
CREATED:20190310T211308Z
LAST-MODIFIED:20190310T211312Z
UID:5729-1560848400-1560859200@www.tryoncountryclub.com
SUMMARY:TWGA
DESCRIPTION:
URL:https://www.tryoncountryclub.com/calendar/twga-61/
END:VEVENT
BEGIN:VEVENT
DTSTART;TZID=America/New_York:20190617T090000
DTEND;TZID=America/New_York:20190617T120000
DTSTAMP:20260423T062004
CREATED:20190310T211232Z
LAST-MODIFIED:20190310T211236Z
UID:5725-1560762000-1560772800@www.tryoncountryclub.com
SUMMARY:TMGA
DESCRIPTION:
URL:https://www.tryoncountryclub.com/calendar/tmga-61/
END:VEVENT
BEGIN:VEVENT
DTSTART;VALUE=DATE:20190615
DTEND;VALUE=DATE:20190616
DTSTAMP:20260423T062004
CREATED:20190310T161500Z
LAST-MODIFIED:20190310T161506Z
UID:5535-1560556800-1560643199@www.tryoncountryclub.com
SUMMARY:US Open Pick A Pro
DESCRIPTION:
URL:https://www.tryoncountryclub.com/calendar/us-open-pick-a-pro/
END:VEVENT
BEGIN:VEVENT
DTSTART;TZID=America/New_York:20190613T090000
DTEND;TZID=America/New_York:20190613T133000
DTSTAMP:20260423T062004
CREATED:20190310T161307Z
LAST-MODIFIED:20190310T161312Z
UID:5531-1560416400-1560432600@www.tryoncountryclub.com
SUMMARY:Ladies Club Championship
DESCRIPTION:
URL:https://www.tryoncountryclub.com/calendar/ladies-club-championship-4/
END:VEVENT
BEGIN:VEVENT
DTSTART;TZID=America/New_York:20190611T090000
DTEND;TZID=America/New_York:20190611T133000
DTSTAMP:20260423T062004
CREATED:20190310T161215Z
LAST-MODIFIED:20190310T161219Z
UID:5527-1560243600-1560259800@www.tryoncountryclub.com
SUMMARY:Ladies Club Championship
DESCRIPTION:
URL:https://www.tryoncountryclub.com/calendar/ladies-club-championship-3/
END:VEVENT
BEGIN:VEVENT
DTSTART;TZID=America/New_York:20190611T090000
DTEND;TZID=America/New_York:20190611T120000
DTSTAMP:20260423T062004
CREATED:20190310T203918Z
LAST-MODIFIED:20190310T203922Z
UID:5721-1560243600-1560254400@www.tryoncountryclub.com
SUMMARY:TWGA
DESCRIPTION:
URL:https://www.tryoncountryclub.com/calendar/twga-60/
END:VEVENT
BEGIN:VEVENT
DTSTART;TZID=America/New_York:20190610T090000
DTEND;TZID=America/New_York:20190610T120000
DTSTAMP:20260423T062004
CREATED:20190310T203839Z
LAST-MODIFIED:20190310T203843Z
UID:5717-1560157200-1560168000@www.tryoncountryclub.com
SUMMARY:TMGA
DESCRIPTION:
URL:https://www.tryoncountryclub.com/calendar/tmga-60/
END:VEVENT
BEGIN:VEVENT
DTSTART;TZID=America/New_York:20190604T090000
DTEND;TZID=America/New_York:20190604T120000
DTSTAMP:20260423T062004
CREATED:20190310T203758Z
LAST-MODIFIED:20190310T203802Z
UID:5713-1559638800-1559649600@www.tryoncountryclub.com
SUMMARY:TWGA
DESCRIPTION:
URL:https://www.tryoncountryclub.com/calendar/twga-59/
END:VEVENT
BEGIN:VEVENT
DTSTART;TZID=America/New_York:20190603T090000
DTEND;TZID=America/New_York:20190603T120000
DTSTAMP:20260423T062004
CREATED:20190310T203705Z
LAST-MODIFIED:20190310T203710Z
UID:5708-1559552400-1559563200@www.tryoncountryclub.com
SUMMARY:TMGA
DESCRIPTION:
URL:https://www.tryoncountryclub.com/calendar/tmga-59/
END:VEVENT
BEGIN:VEVENT
DTSTART;TZID=America/New_York:20190528T090000
DTEND;TZID=America/New_York:20190528T120000
DTSTAMP:20260423T062004
CREATED:20190310T203541Z
LAST-MODIFIED:20190310T203545Z
UID:5704-1559034000-1559044800@www.tryoncountryclub.com
SUMMARY:TWGA
DESCRIPTION:
URL:https://www.tryoncountryclub.com/calendar/twga-58/
END:VEVENT
BEGIN:VEVENT
DTSTART;TZID=America/New_York:20190527T090000
DTEND;TZID=America/New_York:20190527T130000
DTSTAMP:20260423T062004
CREATED:20190310T153133Z
LAST-MODIFIED:20190310T153403Z
UID:5519-1558947600-1558962000@www.tryoncountryclub.com
SUMMARY:Memorial Day Scramble
DESCRIPTION:
URL:https://www.tryoncountryclub.com/calendar/memorial-day-scramble-2/
END:VEVENT
BEGIN:VEVENT
DTSTART;TZID=America/New_York:20190521T090000
DTEND;TZID=America/New_York:20190521T120000
DTSTAMP:20260423T062004
CREATED:20190310T203454Z
LAST-MODIFIED:20190310T203458Z
UID:5700-1558429200-1558440000@www.tryoncountryclub.com
SUMMARY:TWGA
DESCRIPTION:
URL:https://www.tryoncountryclub.com/calendar/twga-57/
END:VEVENT
BEGIN:VEVENT
DTSTART;TZID=America/New_York:20190520T090000
DTEND;TZID=America/New_York:20190520T120000
DTSTAMP:20260423T062004
CREATED:20190310T203414Z
LAST-MODIFIED:20190310T203418Z
UID:5696-1558342800-1558353600@www.tryoncountryclub.com
SUMMARY:TMGA
DESCRIPTION:
URL:https://www.tryoncountryclub.com/calendar/tmga-58/
END:VEVENT
BEGIN:VEVENT
DTSTART;TZID=America/New_York:20190514T090000
DTEND;TZID=America/New_York:20190514T120000
DTSTAMP:20260423T062004
CREATED:20190310T202001Z
LAST-MODIFIED:20190310T203258Z
UID:5691-1557824400-1557835200@www.tryoncountryclub.com
SUMMARY:TWGA
DESCRIPTION:
URL:https://www.tryoncountryclub.com/calendar/twga-56/
END:VEVENT
BEGIN:VEVENT
DTSTART;TZID=America/New_York:20190513T090000
DTEND;TZID=America/New_York:20190513T120000
DTSTAMP:20260423T062004
CREATED:20190310T201913Z
LAST-MODIFIED:20190310T201917Z
UID:5687-1557738000-1557748800@www.tryoncountryclub.com
SUMMARY:TMGA
DESCRIPTION:
URL:https://www.tryoncountryclub.com/calendar/tmga-57/
END:VEVENT
BEGIN:VEVENT
DTSTART;VALUE=DATE:20190508
DTEND;VALUE=DATE:20190510
DTSTAMP:20260423T062004
CREATED:20190310T152503Z
LAST-MODIFIED:20190310T152507Z
UID:5516-1557273600-1557446399@www.tryoncountryclub.com
SUMMARY:Volunteer Work Days
DESCRIPTION:
URL:https://www.tryoncountryclub.com/calendar/volunteer-work-days-2/
END:VEVENT
BEGIN:VEVENT
DTSTART;VALUE=DATE:20190508
DTEND;VALUE=DATE:20190510
DTSTAMP:20260423T062004
CREATED:20190310T152355Z
LAST-MODIFIED:20190310T152407Z
UID:5512-1557273600-1557446399@www.tryoncountryclub.com
SUMMARY:Greens Aerification
DESCRIPTION:
URL:https://www.tryoncountryclub.com/calendar/greens-aerification-3/
END:VEVENT
BEGIN:VEVENT
DTSTART;TZID=America/New_York:20190507T090000
DTEND;TZID=America/New_York:20190507T120000
DTSTAMP:20260423T062004
CREATED:20190310T201819Z
LAST-MODIFIED:20190310T201823Z
UID:5683-1557219600-1557230400@www.tryoncountryclub.com
SUMMARY:TWGA
DESCRIPTION:
URL:https://www.tryoncountryclub.com/calendar/twga-55/
END:VEVENT
BEGIN:VEVENT
DTSTART;TZID=America/New_York:20190506T090000
DTEND;TZID=America/New_York:20190506T120000
DTSTAMP:20260423T062004
CREATED:20190310T201736Z
LAST-MODIFIED:20190310T201741Z
UID:5679-1557133200-1557144000@www.tryoncountryclub.com
SUMMARY:TMGA
DESCRIPTION:
URL:https://www.tryoncountryclub.com/calendar/tmga-56/
END:VEVENT
BEGIN:VEVENT
DTSTART;TZID=America/New_York:20190504T083000
DTEND;TZID=America/New_York:20190504T133000
DTSTAMP:20260423T062004
CREATED:20190310T152154Z
LAST-MODIFIED:20190310T152210Z
UID:5508-1556958600-1556976600@www.tryoncountryclub.com
SUMMARY:Church Outing
DESCRIPTION:
URL:https://www.tryoncountryclub.com/calendar/church-outing/
END:VEVENT
END:VCALENDAR