BEGIN:VCALENDAR
VERSION:2.0
PRODID:-//Tryon Country Club | Tryon, NC - ECPv6.15.17.1//NONSGML v1.0//EN
CALSCALE:GREGORIAN
METHOD:PUBLISH
X-WR-CALNAME:Tryon Country Club | Tryon, NC
X-ORIGINAL-URL:https://www.tryoncountryclub.com
X-WR-CALDESC:Events for Tryon Country Club | Tryon, NC
REFRESH-INTERVAL;VALUE=DURATION:PT1H
X-Robots-Tag:noindex
X-PUBLISHED-TTL:PT1H
BEGIN:VTIMEZONE
TZID:America/New_York
BEGIN:DAYLIGHT
TZOFFSETFROM:-0500
TZOFFSETTO:-0400
TZNAME:EDT
DTSTART:20190310T070000
END:DAYLIGHT
BEGIN:STANDARD
TZOFFSETFROM:-0400
TZOFFSETTO:-0500
TZNAME:EST
DTSTART:20191103T060000
END:STANDARD
BEGIN:DAYLIGHT
TZOFFSETFROM:-0500
TZOFFSETTO:-0400
TZNAME:EDT
DTSTART:20200308T070000
END:DAYLIGHT
BEGIN:STANDARD
TZOFFSETFROM:-0400
TZOFFSETTO:-0500
TZNAME:EST
DTSTART:20201101T060000
END:STANDARD
BEGIN:DAYLIGHT
TZOFFSETFROM:-0500
TZOFFSETTO:-0400
TZNAME:EDT
DTSTART:20210314T070000
END:DAYLIGHT
BEGIN:STANDARD
TZOFFSETFROM:-0400
TZOFFSETTO:-0500
TZNAME:EST
DTSTART:20211107T060000
END:STANDARD
BEGIN:DAYLIGHT
TZOFFSETFROM:-0500
TZOFFSETTO:-0400
TZNAME:EDT
DTSTART:20220313T070000
END:DAYLIGHT
BEGIN:STANDARD
TZOFFSETFROM:-0400
TZOFFSETTO:-0500
TZNAME:EST
DTSTART:20221106T060000
END:STANDARD
END:VTIMEZONE
BEGIN:VEVENT
DTSTART;TZID=America/New_York:20210608T080000
DTEND;TZID=America/New_York:20210608T123000
DTSTAMP:20260423T062350
CREATED:20210423T145152Z
LAST-MODIFIED:20210423T145202Z
UID:6490-1623139200-1623155400@www.tryoncountryclub.com
SUMMARY:TWGA
DESCRIPTION:
URL:https://www.tryoncountryclub.com/calendar/twga-107/
END:VEVENT
BEGIN:VEVENT
DTSTART;TZID=America/New_York:20210607T080000
DTEND;TZID=America/New_York:20210607T123000
DTSTAMP:20260423T062350
CREATED:20210423T145644Z
LAST-MODIFIED:20210423T145654Z
UID:6504-1623052800-1623069000@www.tryoncountryclub.com
SUMMARY:TMGA
DESCRIPTION:
URL:https://www.tryoncountryclub.com/calendar/tmga-87/
END:VEVENT
BEGIN:VEVENT
DTSTART;TZID=America/New_York:20210605T100000
DTEND;TZID=America/New_York:20210605T150000
DTSTAMP:20260423T062350
CREATED:20210423T195454Z
LAST-MODIFIED:20210423T195500Z
UID:6698-1622887200-1622905200@www.tryoncountryclub.com
SUMMARY:Dogfight
DESCRIPTION:
URL:https://www.tryoncountryclub.com/calendar/dogfight-113/
END:VEVENT
BEGIN:VEVENT
DTSTART;TZID=America/New_York:20210601T080000
DTEND;TZID=America/New_York:20210601T123000
DTSTAMP:20260423T062350
CREATED:20210423T145053Z
LAST-MODIFIED:20210423T145103Z
UID:6486-1622534400-1622550600@www.tryoncountryclub.com
SUMMARY:TWGA
DESCRIPTION:
URL:https://www.tryoncountryclub.com/calendar/twga-105/
END:VEVENT
BEGIN:VEVENT
DTSTART;TZID=America/New_York:20210531T090000
DTEND;TZID=America/New_York:20210531T130000
DTSTAMP:20260423T062350
CREATED:20210421T193741Z
LAST-MODIFIED:20210421T194110Z
UID:6384-1622451600-1622466000@www.tryoncountryclub.com
SUMMARY:Memorial Day Scramble & Lunch
DESCRIPTION:
URL:https://www.tryoncountryclub.com/calendar/memorial-day-scramble-lunch/
END:VEVENT
BEGIN:VEVENT
DTSTART;TZID=America/New_York:20210529T100000
DTEND;TZID=America/New_York:20210529T150000
DTSTAMP:20260423T062350
CREATED:20210423T195347Z
LAST-MODIFIED:20210423T195355Z
UID:6694-1622282400-1622300400@www.tryoncountryclub.com
SUMMARY:Dogfight
DESCRIPTION:
URL:https://www.tryoncountryclub.com/calendar/dogfight-48/
END:VEVENT
BEGIN:VEVENT
DTSTART;TZID=America/New_York:20210525T080000
DTEND;TZID=America/New_York:20210525T130000
DTSTAMP:20260423T062350
CREATED:20210421T212831Z
LAST-MODIFIED:20210421T212837Z
UID:6477-1621929600-1621947600@www.tryoncountryclub.com
SUMMARY:TWGA Opening Day
DESCRIPTION:
URL:https://www.tryoncountryclub.com/calendar/twga-opening-day-4/
END:VEVENT
BEGIN:VEVENT
DTSTART;TZID=America/New_York:20210524T080000
DTEND;TZID=America/New_York:20210524T130000
DTSTAMP:20260423T062350
CREATED:20210421T212931Z
LAST-MODIFIED:20210421T212937Z
UID:6481-1621843200-1621861200@www.tryoncountryclub.com
SUMMARY:TMGA Opening Day
DESCRIPTION:
URL:https://www.tryoncountryclub.com/calendar/tmga-opening-day-3/
END:VEVENT
BEGIN:VEVENT
DTSTART;TZID=America/New_York:20210522T100000
DTEND;TZID=America/New_York:20210522T150000
DTSTAMP:20260423T062350
CREATED:20210421T193337Z
LAST-MODIFIED:20210421T193343Z
UID:6378-1621677600-1621695600@www.tryoncountryclub.com
SUMMARY:Dogfight Opening Day
DESCRIPTION:
URL:https://www.tryoncountryclub.com/calendar/dogfight-opening-day-3/
END:VEVENT
BEGIN:VEVENT
DTSTART;TZID=America/New_York:20210521T160000
DTEND;TZID=America/New_York:20210521T183000
DTSTAMP:20260423T062350
CREATED:20210421T193131Z
LAST-MODIFIED:20210421T193138Z
UID:6374-1621612800-1621621800@www.tryoncountryclub.com
SUMMARY:Couples Golf
DESCRIPTION:
URL:https://www.tryoncountryclub.com/calendar/couples-golf-24/
END:VEVENT
BEGIN:VEVENT
DTSTART;TZID=America/New_York:20201109T090000
DTEND;TZID=America/New_York:20201109T140000
DTSTAMP:20260423T062350
CREATED:20200226T190828Z
LAST-MODIFIED:20200226T192032Z
UID:6034-1604912400-1604930400@www.tryoncountryclub.com
SUMMARY:TMGA Closing Day
DESCRIPTION:
URL:https://www.tryoncountryclub.com/calendar/tmga-closing-day-3/
END:VEVENT
BEGIN:VEVENT
DTSTART;TZID=America/New_York:20201102T090000
DTEND;TZID=America/New_York:20201102T120000
DTSTAMP:20260423T062350
CREATED:20200228T210943Z
LAST-MODIFIED:20200228T210955Z
UID:6311-1604307600-1604318400@www.tryoncountryclub.com
SUMMARY:TMGA
DESCRIPTION:
URL:https://www.tryoncountryclub.com/calendar/tmga-109/
END:VEVENT
BEGIN:VEVENT
DTSTART;TZID=America/New_York:20201027T090000
DTEND;TZID=America/New_York:20201027T140000
DTSTAMP:20260423T062350
CREATED:20200226T190729Z
LAST-MODIFIED:20200226T190734Z
UID:6030-1603789200-1603807200@www.tryoncountryclub.com
SUMMARY:TWGA Closing Day
DESCRIPTION:
URL:https://www.tryoncountryclub.com/calendar/twga-closing-day-4/
END:VEVENT
BEGIN:VEVENT
DTSTART;TZID=America/New_York:20201026T090000
DTEND;TZID=America/New_York:20201026T123000
DTSTAMP:20260423T062350
CREATED:20200228T210831Z
LAST-MODIFIED:20200228T210835Z
UID:6307-1603702800-1603715400@www.tryoncountryclub.com
SUMMARY:TMGA
DESCRIPTION:
URL:https://www.tryoncountryclub.com/calendar/tmga-108/
END:VEVENT
BEGIN:VEVENT
DTSTART;TZID=America/New_York:20201023T160000
DTEND;TZID=America/New_York:20201023T193000
DTSTAMP:20260423T062350
CREATED:20200226T190553Z
LAST-MODIFIED:20200226T190603Z
UID:6025-1603468800-1603481400@www.tryoncountryclub.com
SUMMARY:Couples Golf
DESCRIPTION:
URL:https://www.tryoncountryclub.com/calendar/couples-golf-23/
END:VEVENT
BEGIN:VEVENT
DTSTART;TZID=America/New_York:20201022T080000
DTEND;TZID=America/New_York:20201022T160000
DTSTAMP:20260423T062350
CREATED:20201004T202055Z
LAST-MODIFIED:20201004T202101Z
UID:6358-1603353600-1603382400@www.tryoncountryclub.com
SUMMARY:Ladies Club Championship
DESCRIPTION:
URL:https://www.tryoncountryclub.com/calendar/ladies-club-championship-6/
END:VEVENT
BEGIN:VEVENT
DTSTART;TZID=America/New_York:20201020T080000
DTEND;TZID=America/New_York:20201020T160000
DTSTAMP:20260423T062350
CREATED:20201004T202004Z
LAST-MODIFIED:20201004T202010Z
UID:6354-1603180800-1603209600@www.tryoncountryclub.com
SUMMARY:Ladies Club Championship
DESCRIPTION:
URL:https://www.tryoncountryclub.com/calendar/ladies-club-championship-5/
END:VEVENT
BEGIN:VEVENT
DTSTART;TZID=America/New_York:20201019T090000
DTEND;TZID=America/New_York:20201019T120000
DTSTAMP:20260423T062350
CREATED:20200228T210643Z
LAST-MODIFIED:20200228T210653Z
UID:6298-1603098000-1603108800@www.tryoncountryclub.com
SUMMARY:TMGA
DESCRIPTION:
URL:https://www.tryoncountryclub.com/calendar/tmga-107/
END:VEVENT
BEGIN:VEVENT
DTSTART;TZID=America/New_York:20201018T080000
DTEND;TZID=America/New_York:20201018T160000
DTSTAMP:20260423T062350
CREATED:20201004T201053Z
LAST-MODIFIED:20201004T201059Z
UID:6350-1603008000-1603036800@www.tryoncountryclub.com
SUMMARY:Men"s Club Championship
DESCRIPTION:
URL:https://www.tryoncountryclub.com/calendar/mens-club-championship-5/
END:VEVENT
BEGIN:VEVENT
DTSTART;TZID=America/New_York:20201017T080000
DTEND;TZID=America/New_York:20201017T080000
DTSTAMP:20260423T062350
CREATED:20201004T200828Z
LAST-MODIFIED:20201004T200835Z
UID:6347-1602921600-1602921600@www.tryoncountryclub.com
SUMMARY:Men's Club Championship
DESCRIPTION:
URL:https://www.tryoncountryclub.com/calendar/mens-club-championship-4/
END:VEVENT
BEGIN:VEVENT
DTSTART;TZID=America/New_York:20201013T090000
DTEND;TZID=America/New_York:20201013T123000
DTSTAMP:20260423T062350
CREATED:20200228T210556Z
LAST-MODIFIED:20200228T210601Z
UID:6294-1602579600-1602592200@www.tryoncountryclub.com
SUMMARY:TWGA
DESCRIPTION:
URL:https://www.tryoncountryclub.com/calendar/twga-106/
END:VEVENT
BEGIN:VEVENT
DTSTART;TZID=America/New_York:20201012T090000
DTEND;TZID=America/New_York:20201012T120000
DTSTAMP:20260423T062350
CREATED:20200228T210441Z
LAST-MODIFIED:20200228T210513Z
UID:6290-1602493200-1602504000@www.tryoncountryclub.com
SUMMARY:TMGA
DESCRIPTION:
URL:https://www.tryoncountryclub.com/calendar/tmga-106/
END:VEVENT
BEGIN:VEVENT
DTSTART;TZID=America/New_York:20201005T090000
DTEND;TZID=America/New_York:20201005T120000
DTSTAMP:20260423T062350
CREATED:20200228T210318Z
LAST-MODIFIED:20200228T210323Z
UID:6282-1601888400-1601899200@www.tryoncountryclub.com
SUMMARY:TMGA
DESCRIPTION:
URL:https://www.tryoncountryclub.com/calendar/tmga-105/
END:VEVENT
BEGIN:VEVENT
DTSTART;TZID=America/New_York:20201003T090000
DTEND;TZID=America/New_York:20201003T133000
DTSTAMP:20260423T062350
CREATED:20200226T184854Z
LAST-MODIFIED:20200226T185621Z
UID:6005-1601715600-1601731800@www.tryoncountryclub.com
SUMMARY:2 Person Alternate Shot
DESCRIPTION:
URL:https://www.tryoncountryclub.com/calendar/2-person-alternate-shot/
END:VEVENT
BEGIN:VEVENT
DTSTART;TZID=America/New_York:20200929T090000
DTEND;TZID=America/New_York:20200929T123000
DTSTAMP:20260423T062350
CREATED:20200228T210201Z
LAST-MODIFIED:20200228T210234Z
UID:6278-1601370000-1601382600@www.tryoncountryclub.com
SUMMARY:TWGA
DESCRIPTION:
URL:https://www.tryoncountryclub.com/calendar/twga-104/
END:VEVENT
BEGIN:VEVENT
DTSTART;TZID=America/New_York:20200928T090000
DTEND;TZID=America/New_York:20200928T120000
DTSTAMP:20260423T062350
CREATED:20200228T205039Z
LAST-MODIFIED:20200228T210112Z
UID:6273-1601283600-1601294400@www.tryoncountryclub.com
SUMMARY:TMGA
DESCRIPTION:
URL:https://www.tryoncountryclub.com/calendar/tmga-104/
END:VEVENT
BEGIN:VEVENT
DTSTART;TZID=America/New_York:20200922T090000
DTEND;TZID=America/New_York:20200922T123000
DTSTAMP:20260423T062350
CREATED:20200228T204933Z
LAST-MODIFIED:20200228T204938Z
UID:6268-1600765200-1600777800@www.tryoncountryclub.com
SUMMARY:TWGA
DESCRIPTION:
URL:https://www.tryoncountryclub.com/calendar/twga-103/
END:VEVENT
BEGIN:VEVENT
DTSTART;TZID=America/New_York:20200921T090000
DTEND;TZID=America/New_York:20200921T120000
DTSTAMP:20260423T062350
CREATED:20200228T204836Z
LAST-MODIFIED:20200228T204841Z
UID:6264-1600678800-1600689600@www.tryoncountryclub.com
SUMMARY:TMGA
DESCRIPTION:
URL:https://www.tryoncountryclub.com/calendar/tmga-103/
END:VEVENT
BEGIN:VEVENT
DTSTART;TZID=America/New_York:20200918T040000
DTEND;TZID=America/New_York:20200918T193000
DTSTAMP:20260423T062350
CREATED:20200226T183654Z
LAST-MODIFIED:20200226T183718Z
UID:6000-1600401600-1600457400@www.tryoncountryclub.com
SUMMARY:Couples Golf
DESCRIPTION:
URL:https://www.tryoncountryclub.com/calendar/couples-golf-22/
END:VEVENT
BEGIN:VEVENT
DTSTART;TZID=America/New_York:20200915T090000
DTEND;TZID=America/New_York:20200915T123000
DTSTAMP:20260423T062350
CREATED:20200228T204749Z
LAST-MODIFIED:20200228T204800Z
UID:6260-1600160400-1600173000@www.tryoncountryclub.com
SUMMARY:TWGA
DESCRIPTION:
URL:https://www.tryoncountryclub.com/calendar/twga-102/
END:VEVENT
END:VCALENDAR